BEGIN:VCALENDAR
VERSION:2.0
PRODID:-//RIGHTHERE//CALENDARIZE IT V3.2//EN
BEGIN:VTIMEZONE
TZID:Europe/Madrid
BEGIN:STANDARD
DTSTART:20251026T010000
TZOFFSETFROM:+0200
TZOFFSETTO:+0100
TZNAME:CET
END:STANDARD
BEGIN:DAYLIGHT
DTSTART:20260329T010000
TZOFFSETFROM:+0100
TZOFFSETTO:+0200
TZNAME:CEST
END:DAYLIGHT
BEGIN:STANDARD
DTSTART:20261025T010000
TZOFFSETFROM:+0200
TZOFFSETTO:+0100
TZNAME:CET
END:STANDARD
END:VTIMEZONE
BEGIN:VEVENT
UID:8244-events@spoug.es
DTSTART;TZID=Europe/Madrid:20221108T170000
DTEND;TZID=Europe/Madrid:20221108T180000
DTSTAMP;TZID=Europe/Madrid:20220329T175020
SUMMARY:SPOUG Academy: High Availability Systems – Top 5 Availability Fea
 tures in Oracle Database
URL:https://spoug.es/events/spoug-academy-high-availability-systems-2/
LOCATION:Virtual
END:VEVENT
END:VCALENDAR