BEGIN:VCALENDAR
VERSION:2.0
PRODID:-//RIGHTHERE//CALENDARIZE IT V3.2//EN
BEGIN:VTIMEZONE
TZID:Europe/Madrid
BEGIN:STANDARD
DTSTART:20251026T010000
TZOFFSETFROM:+0200
TZOFFSETTO:+0100
TZNAME:CET
END:STANDARD
BEGIN:DAYLIGHT
DTSTART:20260329T010000
TZOFFSETFROM:+0100
TZOFFSETTO:+0200
TZNAME:CEST
END:DAYLIGHT
BEGIN:STANDARD
DTSTART:20261025T010000
TZOFFSETFROM:+0200
TZOFFSETTO:+0100
TZNAME:CET
END:STANDARD
END:VTIMEZONE
BEGIN:VEVENT
UID:6196-events@spoug.es
DTSTART;TZID=Europe/Madrid:20210324T110000
DTEND;TZID=Europe/Madrid:20210324T000000
DTSTAMP;TZID=Europe/Madrid:20210308T155104
SUMMARY:Oracle JDE Orchestrator for Capital Asset Management
URL:https://spoug.es/events/oracle-jde-orchestrator-for-capital-asset-manag
 ement/
LOCATION:Virtual
END:VEVENT
END:VCALENDAR