BEGIN:VCALENDAR
VERSION:2.0
PRODID:-//RIGHTHERE//CALENDARIZE IT V3.2//EN
BEGIN:VTIMEZONE
TZID:Europe/Madrid
BEGIN:STANDARD
DTSTART:20251026T010000
TZOFFSETFROM:+0200
TZOFFSETTO:+0100
TZNAME:CET
END:STANDARD
BEGIN:DAYLIGHT
DTSTART:20260329T010000
TZOFFSETFROM:+0100
TZOFFSETTO:+0200
TZNAME:CEST
END:DAYLIGHT
BEGIN:STANDARD
DTSTART:20261025T010000
TZOFFSETFROM:+0200
TZOFFSETTO:+0100
TZNAME:CET
END:STANDARD
END:VTIMEZONE
BEGIN:VEVENT
UID:4614-events@spoug.es
DTSTART;TZID=Europe/Madrid:20201020T100000
DTEND;TZID=Europe/Madrid:20201020T101000
DTSTAMP;TZID=Europe/Madrid:20200917T144051
SUMMARY:JDE152 Applications Unlimited Oracle JD EDwards Tour Presentation
URL:https://spoug.es/events/jde152-applications-unlimited-oracle-jd-edwards
 -tour-presentation/
ORGANIZER;CN=Luca Cavenaghi:
LOCATION:Sala Clinic
END:VEVENT
END:VCALENDAR