BEGIN:VCALENDAR
VERSION:2.0
PRODID:-//RIGHTHERE//CALENDARIZE IT V3.2//EN
BEGIN:VTIMEZONE
TZID:Europe/Madrid
BEGIN:STANDARD
DTSTART:20251026T010000
TZOFFSETFROM:+0200
TZOFFSETTO:+0100
TZNAME:CET
END:STANDARD
BEGIN:DAYLIGHT
DTSTART:20260329T010000
TZOFFSETFROM:+0100
TZOFFSETTO:+0200
TZNAME:CEST
END:DAYLIGHT
BEGIN:STANDARD
DTSTART:20261025T010000
TZOFFSETFROM:+0200
TZOFFSETTO:+0100
TZNAME:CET
END:STANDARD
END:VTIMEZONE
BEGIN:VEVENT
UID:4610-events@spoug.es
DTSTART;TZID=Europe/Madrid:20201020T154000
DTEND;TZID=Europe/Madrid:20201020T162000
DTSTAMP;TZID=Europe/Madrid:20200917T141224
SUMMARY:EBS101 What is Robotic Process Automation (RPA) and Why You Should 
 Care
URL:https://spoug.es/events/ebs101-what-is-robotic-process-automation-rpa-a
 nd-why-you-should-care/
ORGANIZER;CN=Mia Urman:
LOCATION:Sala La Paz
END:VEVENT
END:VCALENDAR