BEGIN:VCALENDAR
VERSION:2.0
PRODID:-//RIGHTHERE//CALENDARIZE IT V3.2//EN
BEGIN:VTIMEZONE
TZID:Europe/Madrid
BEGIN:STANDARD
DTSTART:20251026T010000
TZOFFSETFROM:+0200
TZOFFSETTO:+0100
TZNAME:CET
END:STANDARD
BEGIN:DAYLIGHT
DTSTART:20260329T010000
TZOFFSETFROM:+0100
TZOFFSETTO:+0200
TZNAME:CEST
END:DAYLIGHT
BEGIN:STANDARD
DTSTART:20261025T010000
TZOFFSETFROM:+0200
TZOFFSETTO:+0100
TZNAME:CET
END:STANDARD
END:VTIMEZONE
BEGIN:VEVENT
UID:4600-events@spoug.es
DTSTART;TZID=Europe/Madrid:20201020T132000
DTEND;TZID=Europe/Madrid:20201020T140000
DTSTAMP;TZID=Europe/Madrid:20200917T122300
SUMMARY:DE136 Soluciones para tiempos de Incertidumbre 
URL:https://spoug.es/events/de136-soluciones-para-tiempos-de-incertidumbre/
ORGANIZER;CN=Carlos Valverde:
LOCATION:Sala HUCA
END:VEVENT
END:VCALENDAR