BEGIN:VCALENDAR
VERSION:2.0
PRODID:-//RIGHTHERE//CALENDARIZE IT V3.2//EN
BEGIN:VTIMEZONE
TZID:Europe/Madrid
BEGIN:STANDARD
DTSTART:20251026T010000
TZOFFSETFROM:+0200
TZOFFSETTO:+0100
TZNAME:CET
END:STANDARD
BEGIN:DAYLIGHT
DTSTART:20260329T010000
TZOFFSETFROM:+0100
TZOFFSETTO:+0200
TZNAME:CEST
END:DAYLIGHT
BEGIN:STANDARD
DTSTART:20261025T010000
TZOFFSETFROM:+0200
TZOFFSETTO:+0100
TZNAME:CET
END:STANDARD
END:VTIMEZONE
BEGIN:VEVENT
UID:4574-events@spoug.es
DTSTART;TZID=Europe/Madrid:20201020T100000
DTEND;TZID=Europe/Madrid:20201020T104000
DTSTAMP;TZID=Europe/Madrid:20200917T114504
SUMMARY:DAT083 The Madness of the 7 Kingdoms: Better Machine Learning with 
 SQL
URL:https://spoug.es/events/dat083-the-madness-of-the-7-kingdoms-better-mac
 hine-learning-with-sql/
ORGANIZER;CN=Abigail Giles-Haigh:
LOCATION:Sala Universitaraio A Coruña
END:VEVENT
END:VCALENDAR