BEGIN:VCALENDAR
VERSION:2.0
PRODID:-//RIGHTHERE//CALENDARIZE IT V3.2//EN
BEGIN:VTIMEZONE
TZID:Europe/Madrid
BEGIN:STANDARD
DTSTART:20251026T010000
TZOFFSETFROM:+0200
TZOFFSETTO:+0100
TZNAME:CET
END:STANDARD
BEGIN:DAYLIGHT
DTSTART:20260329T010000
TZOFFSETFROM:+0100
TZOFFSETTO:+0200
TZNAME:CEST
END:DAYLIGHT
BEGIN:STANDARD
DTSTART:20261025T010000
TZOFFSETFROM:+0200
TZOFFSETTO:+0100
TZNAME:CET
END:STANDARD
END:VTIMEZONE
BEGIN:VEVENT
UID:4541-events@spoug.es
DTSTART;TZID=Europe/Madrid:20201020T173000
DTEND;TZID=Europe/Madrid:20201020T181000
DTSTAMP;TZID=Europe/Madrid:20200917T103601
SUMMARY:INF035 Migrating Oracle Databases from AWS to OCI 
URL:https://spoug.es/events/inf035-migrating-oracle-databases-from-aws-to-o
 ci/
ORGANIZER;CN=Alex Zaballa:
LOCATION:Sala Vall d'Hebron
END:VEVENT
END:VCALENDAR