BEGIN:VCALENDAR
VERSION:2.0
PRODID:-//RIGHTHERE//CALENDARIZE IT V3.2//EN
BEGIN:VTIMEZONE
TZID:Europe/Madrid
BEGIN:STANDARD
DTSTART:20251026T010000
TZOFFSETFROM:+0200
TZOFFSETTO:+0100
TZNAME:CET
END:STANDARD
BEGIN:DAYLIGHT
DTSTART:20260329T010000
TZOFFSETFROM:+0100
TZOFFSETTO:+0200
TZNAME:CEST
END:DAYLIGHT
BEGIN:STANDARD
DTSTART:20261025T010000
TZOFFSETFROM:+0200
TZOFFSETTO:+0100
TZNAME:CET
END:STANDARD
END:VTIMEZONE
BEGIN:VEVENT
UID:4539-events@spoug.es
DTSTART;TZID=Europe/Madrid:20201020T164000
DTEND;TZID=Europe/Madrid:20201020T172000
DTSTAMP;TZID=Europe/Madrid:20200917T103352
SUMMARY:INF052 Streamlining Oracle Workloads from on-premises to VMware Hyb
 rid Cloud 
URL:https://spoug.es/events/inf052-streamlining-oracle-workloads-from-on-pr
 emises-to-vmware-hybrid-cloud/
ORGANIZER;CN=Don Sullivan:
LOCATION:Sala Vall d'Hebron
END:VEVENT
END:VCALENDAR