BEGIN:VCALENDAR
VERSION:2.0
PRODID:-//RIGHTHERE//CALENDARIZE IT V3.2//EN
BEGIN:VTIMEZONE
TZID:Europe/Madrid
BEGIN:STANDARD
DTSTART:20251026T010000
TZOFFSETFROM:+0200
TZOFFSETTO:+0100
TZNAME:CET
END:STANDARD
BEGIN:DAYLIGHT
DTSTART:20260329T010000
TZOFFSETFROM:+0100
TZOFFSETTO:+0200
TZNAME:CEST
END:DAYLIGHT
BEGIN:STANDARD
DTSTART:20261025T010000
TZOFFSETFROM:+0200
TZOFFSETTO:+0100
TZNAME:CET
END:STANDARD
END:VTIMEZONE
BEGIN:VEVENT
UID:4501-events@spoug.es
DTSTART;TZID=Europe/Madrid:20201020T155000
DTEND;TZID=Europe/Madrid:20201020T163000
DTSTAMP;TZID=Europe/Madrid:20200917T085942
SUMMARY:DB046 Best Practices to Preserve DB Performance Using Oracle Autono
 mous Health Framework 
URL:https://spoug.es/events/db046-best-practices-to-preserve-db-performance
 -using-oracle-autonomous-health-framework/
ORGANIZER;CN=Mark Scardina:
LOCATION:Sala Gregorio Marañón
END:VEVENT
END:VCALENDAR