BEGIN:VCALENDAR
VERSION:2.0
PRODID:-//RIGHTHERE//CALENDARIZE IT V3.2//EN
BEGIN:VTIMEZONE
TZID:Europe/Madrid
BEGIN:STANDARD
DTSTART:20251026T010000
TZOFFSETFROM:+0200
TZOFFSETTO:+0100
TZNAME:CET
END:STANDARD
BEGIN:DAYLIGHT
DTSTART:20260329T010000
TZOFFSETFROM:+0100
TZOFFSETTO:+0200
TZNAME:CEST
END:DAYLIGHT
BEGIN:STANDARD
DTSTART:20261025T010000
TZOFFSETFROM:+0200
TZOFFSETTO:+0100
TZNAME:CET
END:STANDARD
END:VTIMEZONE
BEGIN:VEVENT
UID:4499-events@spoug.es
DTSTART;TZID=Europe/Madrid:20201020T150000
DTEND;TZID=Europe/Madrid:20201020T154000
DTSTAMP;TZID=Europe/Madrid:20200917T081931
SUMMARY:DB122 Automatic Oracle Database Upgrade with Near Zero Downtime for
 Large Oracle Database Fleet
URL:https://spoug.es/events/db122-automatic-oracle-database-upgrade-with-ne
 ar-zero-downtime-for-large-oracle-database-fleet/
ORGANIZER;CN=Jaume Bernadó:
LOCATION:Sala Gregorio Marañón
END:VEVENT
END:VCALENDAR