BEGIN:VCALENDAR
VERSION:2.0
PRODID:-//RIGHTHERE//CALENDARIZE IT V3.2//EN
BEGIN:VTIMEZONE
TZID:Europe/Madrid
BEGIN:STANDARD
DTSTART:20251026T010000
TZOFFSETFROM:+0200
TZOFFSETTO:+0100
TZNAME:CET
END:STANDARD
BEGIN:DAYLIGHT
DTSTART:20260329T010000
TZOFFSETFROM:+0100
TZOFFSETTO:+0200
TZNAME:CEST
END:DAYLIGHT
BEGIN:STANDARD
DTSTART:20261025T010000
TZOFFSETFROM:+0200
TZOFFSETTO:+0100
TZNAME:CET
END:STANDARD
END:VTIMEZONE
BEGIN:VEVENT
UID:4493-events@spoug.es
DTSTART;TZID=Europe/Madrid:20201020T123000
DTEND;TZID=Europe/Madrid:20201020T131000
DTSTAMP;TZID=Europe/Madrid:20200917T081121
SUMMARY:DB017 Keep them out of the database! 
URL:https://spoug.es/events/db017-keep-them-out-of-the-database/
ORGANIZER;CN=Flora Barriele:
LOCATION:Sala Gregorio Marañón
END:VEVENT
END:VCALENDAR