BEGIN:VCALENDAR
VERSION:2.0
PRODID:-//RIGHTHERE//CALENDARIZE IT V3.2//EN
BEGIN:VTIMEZONE
TZID:Europe/Madrid
BEGIN:STANDARD
DTSTART:20251026T010000
TZOFFSETFROM:+0200
TZOFFSETTO:+0100
TZNAME:CET
END:STANDARD
BEGIN:DAYLIGHT
DTSTART:20260329T010000
TZOFFSETFROM:+0100
TZOFFSETTO:+0200
TZNAME:CEST
END:DAYLIGHT
BEGIN:STANDARD
DTSTART:20261025T010000
TZOFFSETFROM:+0200
TZOFFSETTO:+0100
TZNAME:CET
END:STANDARD
END:VTIMEZONE
BEGIN:VEVENT
UID:4491-events@spoug.es
DTSTART;TZID=Europe/Madrid:20201020T114000
DTEND;TZID=Europe/Madrid:20201020T122000
DTSTAMP;TZID=Europe/Madrid:20200917T080752
SUMMARY:DB065 Migration to Multitenant with Oracle 19c 
URL:https://spoug.es/events/db065-migration-to-multitenant-with-oracle-19c/
ORGANIZER;CN=Mike Dietrich:
LOCATION:Sala Gregorio Marañón
END:VEVENT
END:VCALENDAR