BEGIN:VCALENDAR
VERSION:2.0
PRODID:-//RIGHTHERE//CALENDARIZE IT V3.2//EN
BEGIN:VTIMEZONE
TZID:Europe/Madrid
BEGIN:STANDARD
DTSTART:20251026T010000
TZOFFSETFROM:+0200
TZOFFSETTO:+0100
TZNAME:CET
END:STANDARD
BEGIN:DAYLIGHT
DTSTART:20260329T010000
TZOFFSETFROM:+0100
TZOFFSETTO:+0200
TZNAME:CEST
END:DAYLIGHT
BEGIN:STANDARD
DTSTART:20261025T010000
TZOFFSETFROM:+0200
TZOFFSETTO:+0100
TZNAME:CET
END:STANDARD
END:VTIMEZONE
BEGIN:VEVENT
UID:10122-events@spoug.es
DTSTART;TZID=Europe/Madrid:20240423T170000
DTEND;TZID=Europe/Madrid:20240423T180000
DTSTAMP;TZID=Europe/Madrid:20240321T165650
SUMMARY:SPOUG Academy: GenAI en EPM – Insights EPM
URL:https://spoug.es/events/spoug-academy-genai-en-epm-insights-epm/
LOCATION:Virtual
END:VEVENT
END:VCALENDAR